BEGIN:VCALENDAR
VERSION:2.0
PRODID:-//Freedom Luxembourg - ECPv6.15.20//NONSGML v1.0//EN
CALSCALE:GREGORIAN
METHOD:PUBLISH
X-ORIGINAL-URL:https://www.freeletz.lu/freeletz
X-WR-CALDESC:Events for Freedom Luxembourg
REFRESH-INTERVAL;VALUE=DURATION:PT1H
X-Robots-Tag:noindex
X-PUBLISHED-TTL:PT1H
BEGIN:VTIMEZONE
TZID:Europe/Luxembourg
BEGIN:DAYLIGHT
TZOFFSETFROM:+0100
TZOFFSETTO:+0200
TZNAME:CEST
DTSTART:20230326T010000
END:DAYLIGHT
BEGIN:STANDARD
TZOFFSETFROM:+0200
TZOFFSETTO:+0100
TZNAME:CET
DTSTART:20231029T010000
END:STANDARD
BEGIN:DAYLIGHT
TZOFFSETFROM:+0100
TZOFFSETTO:+0200
TZNAME:CEST
DTSTART:20240331T010000
END:DAYLIGHT
BEGIN:STANDARD
TZOFFSETFROM:+0200
TZOFFSETTO:+0100
TZNAME:CET
DTSTART:20241027T010000
END:STANDARD
BEGIN:DAYLIGHT
TZOFFSETFROM:+0100
TZOFFSETTO:+0200
TZNAME:CEST
DTSTART:20250330T010000
END:DAYLIGHT
BEGIN:STANDARD
TZOFFSETFROM:+0200
TZOFFSETTO:+0100
TZNAME:CET
DTSTART:20251026T010000
END:STANDARD
END:VTIMEZONE
BEGIN:VEVENT
DTSTART;TZID=Europe/Luxembourg:20240120T103000
DTEND;TZID=Europe/Luxembourg:20240120T163000
DTSTAMP:20260425T022542
CREATED:20240113T222420Z
LAST-MODIFIED:20240113T222420Z
UID:787-1705746600-1705768200@www.freeletz.lu
SUMMARY:Manderscheid: Of castles and craters (25 km hike)
DESCRIPTION:Along the Eifel Trail there are a number of lakes of volcanic origin\, as they are actually craters. On this first expedition to the area\, we will explore the Meerfelder Maar and the Windsborn Kratersee\, for they are the closest to Luxembourg. We will also take advantage from this trip to visit both castles in Manderscheid. \nThe ups and downs in 2D and 3D. \nThe carpool. \nWe meet by the Parkplatz Niederburg (Manderscheid) by 10:30.
URL:https://www.freeletz.lu/freeletz/event/manderscheid-of-castles-and-craters-25-km-hike/
CATEGORIES:Hike
ATTACH;FMTTYPE=image/jpeg:https://www.freeletz.lu/freeletz/wp-content/uploads/2024/01/1616148896.jpg
ORGANIZER;CN="Ed":MAILTO:free@freeletz.lu
END:VEVENT
END:VCALENDAR