BEGIN:VCALENDAR
VERSION:2.0
PRODID:-//Freedom Luxembourg - ECPv6.15.20//NONSGML v1.0//EN
CALSCALE:GREGORIAN
METHOD:PUBLISH
X-WR-CALNAME:Freedom Luxembourg
X-ORIGINAL-URL:https://www.freeletz.lu/freeletz
X-WR-CALDESC:Events for Freedom Luxembourg
REFRESH-INTERVAL;VALUE=DURATION:PT1H
X-Robots-Tag:noindex
X-PUBLISHED-TTL:PT1H
BEGIN:VTIMEZONE
TZID:Europe/Luxembourg
BEGIN:DAYLIGHT
TZOFFSETFROM:+0100
TZOFFSETTO:+0200
TZNAME:CEST
DTSTART:20250330T010000
END:DAYLIGHT
BEGIN:STANDARD
TZOFFSETFROM:+0200
TZOFFSETTO:+0100
TZNAME:CET
DTSTART:20251026T010000
END:STANDARD
BEGIN:DAYLIGHT
TZOFFSETFROM:+0100
TZOFFSETTO:+0200
TZNAME:CEST
DTSTART:20260329T010000
END:DAYLIGHT
BEGIN:STANDARD
TZOFFSETFROM:+0200
TZOFFSETTO:+0100
TZNAME:CET
DTSTART:20261025T010000
END:STANDARD
BEGIN:DAYLIGHT
TZOFFSETFROM:+0100
TZOFFSETTO:+0200
TZNAME:CEST
DTSTART:20270328T010000
END:DAYLIGHT
BEGIN:STANDARD
TZOFFSETFROM:+0200
TZOFFSETTO:+0100
TZNAME:CET
DTSTART:20271031T010000
END:STANDARD
END:VTIMEZONE
BEGIN:VEVENT
DTSTART;TZID=Europe/Luxembourg:20260425T123000
DTEND;TZID=Europe/Luxembourg:20260425T193000
DTSTAMP:20260425T013727
CREATED:20260419T202711Z
LAST-MODIFIED:20260419T203049Z
UID:1338-1777120200-1777145400@www.freeletz.lu
SUMMARY:Duio - Fisterra Lighthouse (20 km hike)
DESCRIPTION:By now\, most of us are aware that the Way of Saint James actually ends in Fisterra (Finis Terrae\, World’s End). Indeed\, it was the quest for the Ara Solis (the Altar of the Sun). A journey to the harbour from where you would take the stone boat that would carry you to the other world\, located at the precise place were the setting sun meets the Atlantic Ocean. Wealthy people would find it convenient to do the trip while they were still alive\, for souls are blind. Should you be a knight\, you may prefer to follow the lunar cycle and pilgrimage to Santo André de Teixido instead. Now\, if you are (deserving) royalty\, you do not need to worry as Epona may come to fetch you personally riding her white horse. \n  \nIMPORTANT INFO \nRegister using the form below. \nOvergrown gorse and bramble often make Galician paths challenging. Be ready to improvise. \n  \nFURTHER INFO \nSome may find this one hard. Have a look to ups and downs in 2D and 3D. \nAt the earliest one week in advance\, you may also wish to check our weather forecast app for hikers (set the starting time to April 25th at 12:30 AM\, the speed to 3\, the frequency to 2 and then click Forecast). \n  \nHOW TO GET THERE \nCheck the carpool form below (speak duio and enter). \nWe start from the church of San Vincenzo de Duio by 12:30. \n 
URL:https://www.freeletz.lu/freeletz/event/duio-fisterra-lighthouse-20-km-hike/
CATEGORIES:Hike
ATTACH;FMTTYPE=image/jpeg:https://www.freeletz.lu/freeletz/wp-content/uploads/2026/04/Faro_de_Finesterre_-_52404063596-scaled.jpg
ORGANIZER;CN="Ed":MAILTO:free@freeletz.lu
END:VEVENT
END:VCALENDAR