BEGIN:VCALENDAR
VERSION:2.0
PRODID:-//Freedom Luxembourg - ECPv6.15.20//NONSGML v1.0//EN
CALSCALE:GREGORIAN
METHOD:PUBLISH
X-WR-CALNAME:Freedom Luxembourg
X-ORIGINAL-URL:https://www.freeletz.lu/freeletz
X-WR-CALDESC:Events for Freedom Luxembourg
REFRESH-INTERVAL;VALUE=DURATION:PT1H
X-Robots-Tag:noindex
X-PUBLISHED-TTL:PT1H
BEGIN:VTIMEZONE
TZID:Europe/Luxembourg
BEGIN:DAYLIGHT
TZOFFSETFROM:+0100
TZOFFSETTO:+0200
TZNAME:CEST
DTSTART:20220327T010000
END:DAYLIGHT
BEGIN:STANDARD
TZOFFSETFROM:+0200
TZOFFSETTO:+0100
TZNAME:CET
DTSTART:20221030T010000
END:STANDARD
BEGIN:DAYLIGHT
TZOFFSETFROM:+0100
TZOFFSETTO:+0200
TZNAME:CEST
DTSTART:20230326T010000
END:DAYLIGHT
BEGIN:STANDARD
TZOFFSETFROM:+0200
TZOFFSETTO:+0100
TZNAME:CET
DTSTART:20231029T010000
END:STANDARD
BEGIN:DAYLIGHT
TZOFFSETFROM:+0100
TZOFFSETTO:+0200
TZNAME:CEST
DTSTART:20240331T010000
END:DAYLIGHT
BEGIN:STANDARD
TZOFFSETFROM:+0200
TZOFFSETTO:+0100
TZNAME:CET
DTSTART:20241027T010000
END:STANDARD
END:VTIMEZONE
BEGIN:VEVENT
DTSTART;TZID=Europe/Luxembourg:20230930T090000
DTEND;TZID=Europe/Luxembourg:20230930T180000
DTSTAMP:20260423T095121
CREATED:20230902T092346Z
LAST-MODIFIED:20230903T171256Z
UID:751-1696064400-1696096800@www.freeletz.lu
SUMMARY:Luxembourg Kiltwalk 2023 (42 km)
DESCRIPTION:Time to dust off your kilts as the most eagerly awaited charity event of the year is approaching: the Lux Kiltwalk 2023. \nThe Kiltwalk is one of the largest charity fundraisers in the UK and has been a tradition in Luxembourg uninterruptedly since 2018. This year we will be therefore celebrating its 6th edition. \nThe organisers are collecting donations for Pancreatic Cancer Action. \nDonate\nWe will gather in front of the PYG (Clausen) by 9 AM on September the 30th (Saturday) and walk of the way to the BOSS (Mersch) and back. \nRoughly speaking\, this wee walk covers the distance of a marathon but it is entirely flat. Click on the links to obtain the GPX file (merely illustrative\, as certain segments of the cycling lane may be closed) and the elevation profile in 2D and 3D. Should you find the full distance a bit challenging\, you can consider walking one half and taking the train for the other leg. \nBring comfortable shoes\, plenty of water and some snacks (you should be able to eat and drink a little something at the Boss). Participants are strongly encouraged to wear kilts or some other tartan-resembling fabric. \nThose who complete the challenge will be triumphantly received with bagpipes and drums and their effort rewarded with a well deserved pint and some food back at the Pyg. \nA raffle with fantastic prizes will be followed by the regular quiz and karaoke. \nSave the date and see you all there! \n 
URL:https://www.freeletz.lu/freeletz/event/luxembourg-kiltwalk-2023-42-km/
CATEGORIES:Hike
ATTACH;FMTTYPE=image/jpeg:https://www.freeletz.lu/freeletz/wp-content/uploads/2023/09/IMG-20220917-WA0010.jpg
END:VEVENT
END:VCALENDAR